BEGIN:VCALENDAR
VERSION:2.0
PRODID:-//Unfolding Images - ECPv6.15.18//NONSGML v1.0//EN
CALSCALE:GREGORIAN
METHOD:PUBLISH
X-ORIGINAL-URL:https://www.unfoldingimages.com
X-WR-CALDESC:Evenementen voor Unfolding Images
REFRESH-INTERVAL;VALUE=DURATION:PT1H
X-Robots-Tag:noindex
X-PUBLISHED-TTL:PT1H
BEGIN:VTIMEZONE
TZID:Europe/Amsterdam
BEGIN:DAYLIGHT
TZOFFSETFROM:+0100
TZOFFSETTO:+0200
TZNAME:CEST
DTSTART:20230326T010000
END:DAYLIGHT
BEGIN:STANDARD
TZOFFSETFROM:+0200
TZOFFSETTO:+0100
TZNAME:CET
DTSTART:20231029T010000
END:STANDARD
BEGIN:DAYLIGHT
TZOFFSETFROM:+0100
TZOFFSETTO:+0200
TZNAME:CEST
DTSTART:20240331T010000
END:DAYLIGHT
BEGIN:STANDARD
TZOFFSETFROM:+0200
TZOFFSETTO:+0100
TZNAME:CET
DTSTART:20241027T010000
END:STANDARD
BEGIN:DAYLIGHT
TZOFFSETFROM:+0100
TZOFFSETTO:+0200
TZNAME:CEST
DTSTART:20250330T010000
END:DAYLIGHT
BEGIN:STANDARD
TZOFFSETFROM:+0200
TZOFFSETTO:+0100
TZNAME:CET
DTSTART:20251026T010000
END:STANDARD
BEGIN:DAYLIGHT
TZOFFSETFROM:+0100
TZOFFSETTO:+0200
TZNAME:CEST
DTSTART:20260329T010000
END:DAYLIGHT
BEGIN:STANDARD
TZOFFSETFROM:+0200
TZOFFSETTO:+0100
TZNAME:CET
DTSTART:20261025T010000
END:STANDARD
END:VTIMEZONE
BEGIN:VEVENT
DTSTART;VALUE=DATE:20240913
DTEND;VALUE=DATE:20250209
DTSTAMP:20260421T110238
CREATED:20240518T094605Z
LAST-MODIFIED:20240617T131716Z
UID:9431-1726185600-1739059199@www.unfoldingimages.com
SUMMARY:Jaaropleiding Geweldloze Communicatie
DESCRIPTION:Jaaropleiding Geweldloze Communicatie\n12 dagen tussen 13.09.24 en 08.02.25 \n  \n\nLeer GC toepassen in je leven en werk\, in je eigen woorden\, vooral. Doe spreek- en luistervaardigheden op.\nKom oefenen tijdens de blokken èn tussendoor\, met een buddy. Doe je mee?\n\nData\nBlok 1:   13 + 14  september 2024\nBlok 2:   11 + 12  oktober 2024\nBlok 3:   15 + 16  november 2024\nBlok 4:   13 + 14  december 2024\nBlok 5:   10 + 11  januari  2025\nBlok 6:   7 +  8  februari  2025 \n\n\nBlok 1: Het fundament\n\n\nWe maken 2 dagen kennis met elkaar\, het programma en met Geweldloze Communicatie. Om te kunnen leren en effectief te leren spreken en luisteren\, creëren we een gezamenlijk fundament\, met de 4 elementen van GC: waarneming\, gevoel\, behoefte en verzoek. Zo leer je contact maken met – en uiting geven aan – wat er in je omgaat.\nBlok 2: Voorbij de sabotage\nBelemmerende overtuigingen saboteren dagelijks de effectiviteit van onze communicatie. Toch zijn het boodschappers die verwijzen naar diepere verlangens. Overtuigingen hebben immers een levenslijn naar het hart; je kunt ze niet overstijgen\, wel transformeren. Dat gaan we dan ook doen: door ze te beluisteren en systemisch te benaderen.\nBlok 3: Het goede gesprek\nVertragen om te versnellen. Je onderzoekt wat gevoelens zijn\, wat niet en hoe je dat aanvliegt als spreker en als luisteraar. Ook duik je diep in een eigen casus: de trigger\, wat dit met je doet en waar de ander vandaan komt. Tot de lading eraf is. En dan? Dan oefen je het gesprek\, steeds weer opnieuw\, steeds meer in jouw eigen taal. Tussendoor krijg je tips en feedback.\nBlok 4: Nieuwe perspectieven\nDaar gaan we mee aan de slag in het krachtige proces van de ‘Schoonheid v/d behoefte’. We eten samen. Het avond programma met gastdocent sluit naadloos aan op de dag. De volgende dag laten we alles rustig integreren. We doen verstilde luiser oefeningen en eindigen met meer pit\, om aan te sluiten op het ritme van het gewone leven.\nBlok 5: Voluit Leven\nDit blok gaan we het geleerde integreren: je doel halen en de relatie goed houden\, weerstand ombuigen in samenwerking\, makkelijk switchen tussen spreken en luisteren en effectief een gesprek onderbreken. Ook gaan we grenzen aftasten en aangeven: als je belichaamt wat je belangrijk vindt wordt dat ineens vanzelfsprekend.\nBlok 6: Dankbaarheid\nWe sluiten de opleiding af met dankbaarheid\, mildheid en waardering. Want hoe dankbaar ben je voor behoeften die wel zijn vervuld? En hoe mild over de dingen waar je nog spijt van hebt? Krachtig spul in dit laatste blok! We ronden de training waardig af\, met passende ‘rituelen’\, certificaten\, vuur en -als het meezit – bubbels.\n\n\n\n\n\n\n\n                \n\n                        \n                            Inschrijfformulier Jaargroep\n                             \n							"*" geeft vereiste velden aan \n                        \n                        CommentsDit veld is bedoeld voor validatiedoeleinden en moet niet worden gewijzigd.Naam*\n                            \n                            \n                                                    \n                                                    Voornaam\n                                                \n                            \n                            \n                                                    \n                                                    Achternaam\n                                                \n                            \n                        E-mailadres*\n                            \n                        Telefoon*Ik doe mee*\n			\n					\n					Als Particulier - kies een bedrag\, vul dat hieronder in\n			\n			\n					\n					Als ZZP-er |  € 2.650\,--\n			\n			\n					\n					Vanuit een bedrijf |  € 4.850\,--\n			Particulier?  Vul hier het door jou gekozen bedrag inKies je bedrag tussen € 2.450 en € 1.950\,-- op basis van kunnen en gunnen. Kun je meer bijdragen? Dan maak je deelname voor mensen met een krappe beurs makkelijker. Betaling in termijnen kan. Ik begrijp het*\n			\n					\n					Ik begrijp dat ik nu € 100\,-- inschrijfgeld betaal en de rest later. Ik heb een bedrag ingevuld voor op de factuur en weet dat het inschrijfgeld in mindering wordt gebracht op het totale factuurbedrag.\n			Adres voor op de factuur    \n                    \n                         \n                                        \n                                        Straat + huisnummer\n                                    \n                                    \n                                    Postcode\n                                \n                                    \n                                    Plaats\n                                 \n                                        AfghanistanAland-eilandenAlbaniëAlgerijeAmerikaans SamoaAmerikaanse MaagdeneilandenAndorraAngolaAnguillaAntarcticaAntigua en BarbudaArabische Republiek SyriëArgentiniëArmeniëArubaAustraliëAzerbeidzjanBahama'sBahreinBangladeshBarbadosBelgiëBelizeBeninBermudaBhutanBoliviaBonaire\, Sint Eustatius en SabaBosnië en HerzegovinaBotswanaBouvet eilandBraziliëBrits-Indisch oceaan gebiedBritse MaagdeneilandenBrunei DarussalamBulgarijeBurkina FasoBurundiCambodjaCanadaCentraal-Afrikaanse RepubliekChiliChinaCocoseilandenColombiaComorenCongoCongo\, Democratische RepubliekCook eilandenCosta RicaCubaCuraçaoCyprusDenemarkenDjiboutiDominicaDominicaanse RepubliekDuitslandEcuadorEgypteEl SalvadorEquatoriaal-GuineaEritreaEstlandEswatiniEthiopiëFaeröerFalkland eilandenFijiFilipijnenFinlandFrankrijkFrans GuyanaFrans-PolynesiëFranse zuidelijke gebiedenGabonGambiaGeorgiëGhanaGibraltarGrenadaGriekenlandGroenlandGuadeloupeGuamGuatemalaGuernseyGuineeGuinee-BissauGuyanaHaïtiHeard Eiland en McDonald EilandenHondurasHong KongHongarijeIJslandIerlandIndiaIndonesiëIrakIranIsraëlItaliëIvoorkustJamaicaJapanJerseyJižní Georgie a Jižní Sandwichovy ostrovyJordaniëKaaimaneilandenKaapverdiëKameroenKazachstanKeniaKersteilandKirgiziëKiribatiKleine eilanden van de Verenigde StatenKoeweitKorea\, Democratische VolksrepubliekKorea\, Republiek vanKroatiëLao Democratische VolksrepubliekLesothoLetlandLibanonLiberiaLibiëLiechtensteinLitouwenLuxemburgMacauMadagaskarMalawiMaldivenMaleisiëMaliMaltaManMarokkoMarshalleilandenMartiniqueMauritaniëMauritiusMayotteMexicoMicronesiaMoldaviëMonacoMongoliëMontenegroMontserratMozambiqueMyanmarNamibiëNauruNederlandNepalNicaraguaNieuw-CaledoniëNieuw-ZeelandNigerNigeriaNiueNoord-MacedoniëNoordelijke MarianenNoorwegenNorfolk eilandOegandaOekraïneOezbekistanOmanOostenrijkPakistanPalauPalestina\, StaatPanamaPapoea-Nieuw-GuineaParaguayPeruPitcairnPolenPortugalPuerto RicoQatarRoemeniëRussische FederatieRwandaRéunionSaint BarthélemySaint Kitts en NevisSaint LuciaSaint Pierre en MiquelonSaint Vincent en de GrenadinesSalomonseilandenSamoaSan MarinoSao Tomé en PrincipeSaoedi-ArabiëSenegalServiëSeychellenSierra LeoneSingaporeSint MaartenSint MaartenSint-Helena\, Hemelvaart en Tristan da CunhaSloveniëSlowakijeSoedanSomaliëSpanjeSpitsbergen en Jan MayenSri LankaSurinameTadzjikistanTaiwanTanzania\, de Verenigde Republiek vanThailandTimor-LesteTogoTokelauTongaTrinidad en TobagoTsjaadTsjechiëTunesiëTurkijeTurkmenistanTurks- en CaicoseilandenTuvaluUruguayVanuatuVaticaanstadVenezuelaVerenigd KoninkrijkVerenigde Arabische EmiratenVerenigde StatenVietnamWallis en FutunaWestelijke SaharaWit-RuslandYemenZambiaZimbabweZuid SoedanZuid-AfrikaZwedenZwitserland\n                                        Land\n                                    \n                    \n                Je krijgt de factuur digitaal. Lees evt. ons PrivacyregelementOpmerkingenDit veld is verborgen bij het bekijken van het formulierIngeschreven op:Algemene Voorwaarden*\n								\n								Ik ga akkoord met de Algemene Voorwaarden\n							\n                        \n                        Graag\, houd me op de hoogte van jullie aanbod (nieuwsbrief max. 6x per jaar)\n                    Aanbetaling jaaropleiding\n					\n					\n						Prijs:\n						\n					\n					\n				De aanbetaling wordt in mindering gebracht op het totaalbedrag dat je hebt gekozen. BetaalmethodeiDEAL | WeroKaartBancontact\n                                    American ExpressMasterCardVisaOndersteunde creditcards: American Express\, MasterCard\, Visa\n                                    \n                                    Kaartnummer\n                                 \n                                            \n                                                \n                                                Vervaldatum\n                                            \n                                                \n                                                 \n                                                Beveiligingscode\n                                             \n                                        \n                                            \n                                            Naam kaarthouder\n                                         \n          \n            \n            \n            \n            \n            \n            \n            \n            \n            \n            \n            \n            \n            \n        \n                        Δ
URL:https://www.unfoldingimages.com/event/jaaropleiding-geweldloze-communicatie/
LOCATION:Prins Hendriklaan 73\, 3721 AP Bilthoven\, Prins Hendriklaan\, 73\, Bilthoven\, Selecteer een staat/provincie\, 3721 AP\, Nederland
CATEGORIES:Jaaropleiding GC
ORGANIZER;CN="Susana":MAILTO:susana@unfoldingimages.com
END:VEVENT
BEGIN:VEVENT
DTSTART;VALUE=DATE:20240830
DTEND;VALUE=DATE:20240831
DTSTAMP:20260421T110238
CREATED:20210325T123732Z
LAST-MODIFIED:20240617T132155Z
UID:7487-1724976000-1725062399@www.unfoldingimages.com
SUMMARY:Empathie in elke vezel
DESCRIPTION:Schrijf je in! [/vc_column][/vc_row][vc_row column_spacing=”50″ gap=”35″ css=”.vc_custom_1608220574494{margin-top: 40px !important;margin-bottom: 0px !important;}”][vc_column width=”2/3″ el_id=”equal-height” css=”.vc_custom_1603187752830{background-position: center !important;background-repeat: no-repeat !important;background-size: cover !important;}”]Dagworkshop 'Empathie in elke vezel'[vc_column_text css=”.vc_custom_1616673082552{margin-bottom: 32px !important;}”]In deze dagworkshop oefen je om empathisch te luisteren en leer je demonstreren dat je de ander hoort. Je gaat niets DOEN (zelfs niet je best)\, maar vooral ZIJN: aanwezig bij de ander en luisteren naar de essentie achter de woorden. Je oefent om ontspannen en alert contact te blijven maken met wat er leeft\, om niet te worden opgeslorpt door de inhoud van de woorden\, noch te worden verleid naar het hoofd te gaan.[/vc_column_text][vc_column_text css=”.vc_custom_1616673174436{margin-bottom: 16px !important;}”]“The purpose of listening is to aid the arising and continuing of the other’s own inwardly originating change process” – Eugene Gendlin[/vc_column_text]Er komt leven door de ander[vc_column_text css=”.vc_custom_1616673225147{margin-bottom: 32px !important;}”]Marshall Rosenberg zei dat we empathisch luisteren voor ons eigen welzijn. Met deze intentie weet je niet meer wie geeft of ontvangt. We doen het niet voor de spreker\, want dat brengt hem of haar in de ondergeschikte positie\, alsof die hulp nodig zou hebben. Er komt leven door de ander heen\, en wij proberen onze eigen behoefte te vervullen om ons hiermee te verbinden. Het is een diep menselijke behoefte om in flow te willen zijn met de puurheid van de levensenergie die door de ander heen komt.[/vc_column_text][vc_row_inner el_id=”inschrijven-scroll” css=”.vc_custom_1608280778077{padding-top: 40px !important;background-color: #f7f7f7 !important;}”][vc_column_inner]Schrijf je in!\n                \n                        Naam*\n                            \n                            \n                                                    \n                                                    Voornaam\n                                                \n                            \n                            \n                                                    \n                                                    Achternaam\n                                                \n                            \n                        Telefoon*E-mailadres*\n                            \n                        Algemene voorwaarden*\n								\n								Ik schrijf me in (en accepteer de Algemene Voorwaarden)\n							Op deze training zijn de Algemene Voorwaarden (AV) van Unfolding Images van toepassing. \nBij inschrijving is het belangrijk dat je deze leest en ermee akkoord gaat.Je berichtDit veld is verborgen bij het bekijken van het formulierIngeschreven op:\n          \n            \n            \n            \n            \n            \n            \n            \n            \n            \n            \n            \n            \n            \n        \n                        Δ \n                        \n		                \n		                \n[/vc_column_inner][/vc_row_inner][/vc_column][vc_column width=”1/3″ css=”.vc_custom_1608280811639{padding-top: 30px !important;padding-right: 15px !important;padding-bottom: 30px !important;padding-left: 15px !important;background-color: #f7f7f7 !important;}”]Praktische gegevensDatum[vc_column_text]Vrijdag 30 augustus 2024[/vc_column_text]Tijd[vc_column_text]10.00-17.00 uur[/vc_column_text]Locatie[vc_column_text]Het Tuinhuis\, Prins Hendriklaan 73 Bilthoven[/vc_column_text]Investering[vc_column_text] € 80\,–. Dit bedrag is inclusief koffie\, thee en lunch.[/vc_column_text]Bagage[vc_column_text]We vragen dat je 2 of meer dagen GC hebt gevolgd bij een gecertificeerde trainer. Is dit anders en je belangstelling groot? Neem dan contact op. Er is sowieso een kennismakingsgesprek.[/vc_column_text]Trainers[vc_column_text]Susana Rusch en/of Jan Carel van Dorp. Beiden zijn CNVC gecertificeerd.[/vc_column_text]Studiebelasting[vc_column_text]6 contacturen.[/vc_column_text]Referenties[vc_column_text]Plaats hier de referenties[/vc_column_text][/vc_column][/vc_row]
URL:https://www.unfoldingimages.com/event/empathie-in-elke-vezel/
LOCATION:Het Tuinhuis\, Prins Hendriklaan\, Bilthoven\, Nederland\, 3721AP\, Netherlands
END:VEVENT
END:VCALENDAR